BEGIN:VCALENDAR
PRODID:-//Hannon Hill Events//Cascade CMS//EN
VERSION:2.0
X-WR-CALNAME:Choral Concert - &quot\;From the Heart&quot\;
X-WR-TIMEZONE:America/New_York
BEGIN:VTIMEZONE
TZID:America/New_York
BEGIN:DAYLIGHT
TZOFFSETFROM:-0500
TZOFFSETTO:-0400
TZNAME:EDT
DTSTART:19700308T020000
RRULE:FREQ=YEARLY;BYMONTH=3;BYDAY=2SU
END:DAYLIGHT
BEGIN:STANDARD
TZOFFSETFROM:-0400
TZOFFSETTO:-0500
TZNAME:EST
DTSTART:19701101T020000
RRULE:FREQ=YEARLY;BYMONTH=11;BYDAY=1SU
END:STANDARD
END:VTIMEZONE
BEGIN:VEVENT
DTSTART:20260423T193000
DTEND:20260423T210000
DTSTAMP:20260419T001256
UID:6e06ebd10a1e004c2bf5bb791ecb2b36
CREATED:20260408T115720
DESCRIPTION:Join the Washburn Choral and Vox Aura for an evening of music 
 that spans generations and genres.
LAST-MODIFIED:20260408T115720
SEQUENCE:0
STATUS:CONFIRMED
SUMMARY:Choral Concert - &quot\;From the Heart&quot\;
TRANSP:OPAQUE
END:VEVENT
END:VCALENDAR
